BEGIN:VCALENDAR
VERSION:2.0
PRODID:-//cpa4it - ECPv6.15.20//NONSGML v1.0//EN
CALSCALE:GREGORIAN
METHOD:PUBLISH
X-ORIGINAL-URL:https://cpa4it.ca
X-WR-CALDESC:Events for cpa4it
REFRESH-INTERVAL;VALUE=DURATION:PT1H
X-Robots-Tag:noindex
X-PUBLISHED-TTL:PT1H
BEGIN:VTIMEZONE
TZID:America/Toronto
BEGIN:DAYLIGHT
TZOFFSETFROM:-0500
TZOFFSETTO:-0400
TZNAME:EDT
DTSTART:20240310T070000
END:DAYLIGHT
BEGIN:STANDARD
TZOFFSETFROM:-0400
TZOFFSETTO:-0500
TZNAME:EST
DTSTART:20241103T060000
END:STANDARD
BEGIN:DAYLIGHT
TZOFFSETFROM:-0500
TZOFFSETTO:-0400
TZNAME:EDT
DTSTART:20250309T070000
END:DAYLIGHT
BEGIN:STANDARD
TZOFFSETFROM:-0400
TZOFFSETTO:-0500
TZNAME:EST
DTSTART:20251102T060000
END:STANDARD
BEGIN:DAYLIGHT
TZOFFSETFROM:-0500
TZOFFSETTO:-0400
TZNAME:EDT
DTSTART:20260308T070000
END:DAYLIGHT
BEGIN:STANDARD
TZOFFSETFROM:-0400
TZOFFSETTO:-0500
TZNAME:EST
DTSTART:20261101T060000
END:STANDARD
END:VTIMEZONE
BEGIN:VEVENT
DTSTART;TZID=America/Toronto:20250128T123000
DTEND;TZID=America/Toronto:20250128T133000
DTSTAMP:20260423T121627
CREATED:20250110T193157Z
LAST-MODIFIED:20250110T193157Z
UID:10000200-1738067400-1738071000@cpa4it.ca
SUMMARY:Building Your Financial Foundation: Budgeting For Independent Contractors
DESCRIPTION:Learn how to manage your finances at our webinar “Building Your Financial Foundation: Budgeting For Independent Contractors”!\n\n\nAre you a small business owner looking to organize your finances? If yes\, then this session is for you! Hosted by our Managing Partner – Andrew Wall – this session is designed to help you delve into the crucial aspects of personal and business budgeting.  \n \nWe will be: \n1. Understanding the importance of personal and business budgeting.  \n2. Learning how to set a reasonable salary from your business.  \n3. Exploring the tax implications of salary vs. dividends in Canada.  \n4. Implementing a budgeting framework to balance personal and business goals. \n \nSo\, whether you are an IT consultant\, a real estate agent\, a doctor etc.\, this session will help you manage your finances more efficiently.
URL:https://cpa4it.ca/event/building-your-financial-foundation-budgeting-for-independent-contractors/
ATTACH;FMTTYPE=image/jpeg:https://cpa4it.ca/wp-content/uploads/2025/01/e7aa7d9aa18081811b149ce54bfb8fa8-LpfQxc.tmp_.jpg
END:VEVENT
END:VCALENDAR