Workbook
Name _: #REF!
Name ______________lkm2: #N/A
Name ______________RSE1: #REF!
Name ______________RSE2: #REF!
Name _____________lkm2: #N/A
Name _____________RSE1: #REF!
Name _____________RSE2: #REF!
Name ____________lkm2: #N/A
Name ____________RSE1: #REF!
Name ____________RSE2: #REF!
Name ___________aad116: #REF!
Name ___________lkm2: #N/A
Name ___________RSE1: #REF!
Name ___________RSE2: #REF!
Name __________aad116: #REF!
Name __________lkm2: #N/A
Name __________RSE1: #REF!
Name __________RSE2: #REF!
Name _________aad116: #REF!
Name _________lkm2: #N/A
Name _________RSE1: #REF!
Name _________RSE2: #REF!
Name ________aad116: #REF!
Name ________lkm2: #N/A
Name ________RSE1: #REF!
Name ________RSE2: #REF!
Name ________SEC107: #REF!
Name _______aad116: #REF!
Name _______lkm2: #N/A
Name _______RSE1: #REF!
Name _______RSE2: #REF!
Name _______SEC107: #REF!
Name ______A65800: #REF!
Name ______A66000: #REF!
Name ______aad116: #REF!
Name ______abc1: #REF!
Name ______BQB1: #REF!
Name ______BQB2: #REF!
Name ______BQB3: #REF!
Name ______BQB4: #REF!
Name ______BQB5: #REF!
Name ______BQB6: #REF!
Name ______BQB7: #REF!
Name ______BQB8: #REF!
Name ______BQB9: #REF!
Name ______BQU03: #REF!
Name ______CAL01: #REF!
Name ______CAL02: #REF!
Name ______CAL03: #REF!
Name ______CAL04: #REF!
Name ______CCC1: #REF!
Name ______DEC97: #REF!
Name ______ENG0003: #REF!
Name ______ENG00031: #REF!
Name ______ENG003: #REF!
Name ______FAA1: #N/A
Name ______FAA2: #N/A
Name ______FEB98: #REF!
Name ______Gmt15: #REF!
Name ______GNR1: #REF!

Sheet Dashboard
A1: DASHBOARD | H1: Automobile
A3: Client: | B3: (Enter Company name) | E3: GST Method/ Rate | I3: Ownership Status of Vehicle | J3: Is the Vehicle Electric? | K3: Business Kilometers | L3: Total Kilometers
A4: Period start: | B4: 45870 | E4: GST/HST Rate | F4: 0.13 | H4: Auto 1 | I4: Owned Personally | J4: No
A5: Period end: | B5: 46234 | E5: HST Method | F5: Quick | H5: Auto 2 | I5: Owned Personally | J5: No
A7: Home office percentage of use | F7: 0.25
I8: Cost of Purchase | J8: HST/GST+PST | K8: Total Cost | L8: Purchase Date
H9: Auto 1 | I9: 0 | K9: =I9+J9 -> 0
H10: Auto 2 | I10: 0 | K10: =I10+J10 -> 0
A11: Account Name | B11: Account Number | C11: Account number for internal reporting | E11: Opening Balance | F11: Current Balance
I12: Lease Down Payment | J12: Lease Start Date | K12: Lease End Date
H13: Auto 1 | I13: 0
H14: Auto 2 | I14: 0
A15: Directors Advance | B15: 1111111 | E15: 0 | F15: {=_xlfn.XLOOKUP(TRUE,'Directors Advances'!G7:G1048576<>"",'Directors Advances'!G7:G1048576,,,-1)} -> 0
A16: Bank 1 | B16: 2222222 | F16: {=_xlfn.XLOOKUP(TRUE,'Bank 1'!G7:G1048576<>"",'Bank 1'!G7:G1048576,,,-1)} -> 0 | H16: Instructions
A17: Bank 2 | B17: 3333333 | F17: {=_xlfn.XLOOKUP(TRUE,'Bank 2'!G7:G1048576<>"",'Bank 2'!G7:G1048576,,,-1)} -> 0 | H17: - | I17: Represents a calculated value of 0
A18: Credit Card 1 | B18: 44444444 | F18: {=_xlfn.XLOOKUP(TRUE,'Credit Card 1'!G7:G1048576<>"",'Credit Card 1'!G7:G1048576,,,-1)} -> 0 | I18: Represents a locked cell you can't modify
A19: Credit Card 2 | B19: 55555555 | F19: {=_xlfn.XLOOKUP(TRUE,'Credit Card 2'!G7:G1048576<>"",'Credit Card 2'!G7:G1048576,,,-1)} -> 0 | I19: Represents a cell you can enter data in
A20: Director's Advances | B20: ='Chart of Accounts'!D18 -> 150 Directors advances | F20: ='Chart of Accounts'!F18 -> 0
A21: Total Invoiced amount during the year | F21: =SUMIFS(Table9[Invoice Amount], Table9[Invoice Date], ">=" & 'Sales + Receivables'!$B$3, Table9[Invoice Date], "<=" & 'Sales + Receivables'!$C$3) -> 0
A22: Sundry Income | F22: =IF(Dashboard!F5="Quick", IF('Sales + Receivables'!D4 > 30000, ('Sales + Receivables'!D4 * 0.08) - 300, 'Sales + Receivables'!D4 * 0.078), "") -> 0
A23: Total Received from customers | F23: ='Sales + Receivables'!K4 -> 0
A24: Current Outstanding Receivable from customers | F24: ='Sales + Receivables'!N4 -> 0
A25: Total Expenses YTD: | F25: =-SUM('Chart of Accounts'!F63:F117) -> 0
A26: GST Collected (Long method only) | F26: =SUMIF('Directors Advances'!I7:I1500,">0")+SUMIF('Bank 1'!I7:I1500,">0")+SUMIF('Bank 2'!I7:I1500,">0")+SUMIF('Credit Card 1'!I7:I1500,">0")+SUMIF('Credit Card 2'!I7:I1500,">0") -> 0
A27: GST Paid (Long method only) | F27: =SUMIF('Directors Advances'!I7:I1500,"<0")+SUMIF('Bank 1'!I7:I1500,"<0")+SUMIF('Bank 2'!I7:I1500,"<0")+SUMIF('Credit Card 1'!I7:I1500,"<0")+SUMIF('Credit Card 2'!I7:I1500,"<0") -> 0
A29: NOTES

Sheet Sales + Receivables
A1: =Dashboard!B3 -> (Enter Company name)
A2: Sales + Receivables Ledger
A3: Period: | B3: =Dashboard!B4 -> 45870 | C3: =Dashboard!B5 -> 46234 | D3: Total Sales (Incl. HST) | E3: Total GST on Invoices | F3: Total Net Sales | K3: Total Received | N3: Total Outstanding
D4: =SUMIFS(D:D,A:A,">="&B3,A:A,"<="&C3) -> 0 | E4: =SUMIFS(E:E,A:A,">="&B3,A:A,"<="&C3) -> 0 | F4: =SUMIFS(F:F,A:A,">="&B3,A:A,"<="&C3) -> 0 | G4: =SUBTOTAL(9,G6:G152) -> 0 | H4: =SUBTOTAL(9,H6:H152) -> 0 | K4: =SUBTOTAL(9,K6:K152) -> 0 | L4: =SUBTOTAL(9,L6:L152) -> 0 | M4: =SUBTOTAL(9,M6:M152) -> 0 | N4: =SUBTOTAL(9,N6:N152) -> 0
A5: Invoice Date | B5: Invoice Number | C5: Customer | D5: Invoice Amount | E5: GST/HST | F5: Net Invoice | G5: GST Paid by Cx | H5: Invoice Paid by Cx | I5: Due Date | J5: Payment Date | K5: Payment Amount | L5: GST Outstanding (Long method only) | M5: Net Invoice Amount Outstanding | N5: Total Outstanding Balance
E6: =(Table9[[#This Row],[Invoice Amount]]*Dashboard!$F$4)/(100%+Dashboard!$F$4) -> 0 | F6: =Table9[[#This Row],[Invoice Amount]]-Table9[[#This Row],[GST/HST]] -> 0 | G6: =SUMIF('Directors Advances'!$H$6:$H$1500,'Sales + Receivables'!B6,'Directors Advances'!$I$6:$I$1500)+SUMIF('Bank 1'!$H$7:$H$1500,'Sales + Receivables'!B6,'Bank 1'!$I$7:$I$1500)+SUMIF('Bank 2'!$H$7:$H$1500,'Sales + Receivables'!B6,'Bank 2'!$I$7:$I$1500)+SUMIF('Credit Card 1'!$H$7:$H$1500,'Sales + Receivables'!B6,'Credit Card 1'!$I$7:$I$1500)+SUMIF('Credit Card 2'!$H$7:$H$1500,'Sales + Receivables'!B6,'Credit Card 2'!$I$7:$I$1500) -> 0 | H6: =SUMIFS('Directors Advances'!$J$6:$J$1500, 'Directors Advances'!$H$6:$H$1500, 'Sales + Receivables'!B6, 'Directors Advances'!$H$6:$H$1500, "<>0") +SUMIFS('Bank 1'!$J$7:$J$1500, 'Bank 1'!$H$7:$H$1500, 'Sales + Receivables'!B6, 'Bank 1'!$H$7:$H$1500, "<>0") +SUMIFS('Bank 2'!$J$7:$J$1500, 'Bank 2'!$H$7:$H$1500, 'Sales + Receivables'!B6, 'Bank 2'!$H$7:$H$1500, "<>0") +SUMIFS('Credit Card 1'!$J$7:$J$1500, 'Credit Card 1'!$H$7:$H$1500, 'Sales + Receivables'!B6, 'Credit Card 1'!$H$7:$H$1500, "<>0") +SUMIFS('Credit Card 2'!$J$7:$J$1500, 'Credit Card 2'!$H$7:$H$1500, 'Sales + Receivables'!B6, 'Credit Card 2'!$H$7:$H$1500, "<>0") -> 0 | K6: =Table9[[#This Row],[Invoice Paid by Cx]]+Table9[[#This Row],[GST Paid by Cx]] -> 0 | L6: =IF(Dashboard!$F$5="Quick",0,Table9[[#This Row],[GST/HST]]-Table9[[#This Row],[GST Paid by Cx]]) -> 0 | M6: =Table9[[#This Row],[Net Invoice ]]-Table9[[#This Row],[Invoice Paid by Cx]] -> 0 | N6: =D6-K6 -> 0
E7: =(Table9[[#This Row],[Invoice Amount]]*Dashboard!$F$4)/(100%+Dashboard!$F$4) -> 0 | F7: =Table9[[#This Row],[Invoice Amount]]-Table9[[#This Row],[GST/HST]] -> 0 | G7: =SUMIF('Directors Advances'!$H$6:$H$1500,'Sales + Receivables'!B7,'Directors Advances'!$I$6:$I$1500)+SUMIF('Bank 1'!$H$7:$H$1500,'Sales + Receivables'!B7,'Bank 1'!$I$7:$I$1500)+SUMIF('Bank 2'!$H$7:$H$1500,'Sales + Receivables'!B7,'Bank 2'!$I$7:$I$1500)+SUMIF('Credit Card 1'!$H$7:$H$1500,'Sales + Receivables'!B7,'Credit Card 1'!$I$7:$I$1500)+SUMIF('Credit Card 2'!$H$7:$H$1500,'Sales + Receivables'!B7,'Credit Card 2'!$I$7:$I$1500) -> 0 | H7: =SUMIFS('Directors Advances'!$J$6:$J$1500, 'Directors Advances'!$H$6:$H$1500, 'Sales + Receivables'!B7, 'Directors Advances'!$H$6:$H$1500, "<>0") +SUMIFS('Bank 1'!$J$7:$J$1500, 'Bank 1'!$H$7:$H$1500, 'Sales + Receivables'!B7, 'Bank 1'!$H$7:$H$1500, "<>0") +SUMIFS('Bank 2'!$J$7:$J$1500, 'Bank 2'!$H$7:$H$1500, 'Sales + Receivables'!B7, 'Bank 2'!$H$7:$H$1500, "<>0") +SUMIFS('Credit Card 1'!$J$7:$J$1500, 'Credit Card 1'!$H$7:$H$1500, 'Sales + Receivables'!B7, 'Credit Card 1'!$H$7:$H$1500, "<>0") +SUMIFS('Credit Card 2'!$J$7:$J$1500, 'Credit Card 2'!$H$7:$H$1500, 'Sales + Receivables'!B7, 'Credit Card 2'!$H$7:$H$1500, "<>0") -> 0 | K7: =Table9[[#This Row],[Invoice Paid by Cx]]+Table9[[#This Row],[GST Paid by Cx]] -> 0 | L7: =IF(Dashboard!$F$5="Quick",0,Table9[[#This Row],[GST/HST]]-Table9[[#This Row],[GST Paid by Cx]]) -> 0 | M7: =Table9[[#This Row],[Net Invoice ]]-Table9[[#This Row],[Invoice Paid by Cx]] -> 0 | N7: =D7-K7 -> 0
E8: =(Table9[[#This Row],[Invoice Amount]]*Dashboard!$F$4)/(100%+Dashboard!$F$4) -> 0 | F8: =Table9[[#This Row],[Invoice Amount]]-Table9[[#This Row],[GST/HST]] -> 0 | G8: =SUMIF('Directors Advances'!$H$6:$H$1500,'Sales + Receivables'!B8,'Directors Advances'!$I$6:$I$1500)+SUMIF('Bank 1'!$H$7:$H$1500,'Sales + Receivables'!B8,'Bank 1'!$I$7:$I$1500)+SUMIF('Bank 2'!$H$7:$H$1500,'Sales + Receivables'!B8,'Bank 2'!$I$7:$I$1500)+SUMIF('Credit Card 1'!$H$7:$H$1500,'Sales + Receivables'!B8,'Credit Card 1'!$I$7:$I$1500)+SUMIF('Credit Card 2'!$H$7:$H$1500,'Sales + Receivables'!B8,'Credit Card 2'!$I$7:$I$1500) -> 0 | H8: =SUMIFS('Directors Advances'!$J$6:$J$1500, 'Directors Advances'!$H$6:$H$1500, 'Sales + Receivables'!B8, 'Directors Advances'!$H$6:$H$1500, "<>0") +SUMIFS('Bank 1'!$J$7:$J$1500, 'Bank 1'!$H$7:$H$1500, 'Sales + Receivables'!B8, 'Bank 1'!$H$7:$H$1500, "<>0") +SUMIFS('Bank 2'!$J$7:$J$1500, 'Bank 2'!$H$7:$H$1500, 'Sales + Receivables'!B8, 'Bank 2'!$H$7:$H$1500, "<>0") +SUMIFS('Credit Card 1'!$J$7:$J$1500, 'Credit Card 1'!$H$7:$H$1500, 'Sales + Receivables'!B8, 'Credit Card 1'!$H$7:$H$1500, "<>0") +SUMIFS('Credit Card 2'!$J$7:$J$1500, 'Credit Card 2'!$H$7:$H$1500, 'Sales + Receivables'!B8, 'Credit Card 2'!$H$7:$H$1500, "<>0") -> 0 | K8: =Table9[[#This Row],[Invoice Paid by Cx]]+Table9[[#This Row],[GST Paid by Cx]] -> 0 | L8: =IF(Dashboard!$F$5="Quick",0,Table9[[#This Row],[GST/HST]]-Table9[[#This Row],[GST Paid by Cx]]) -> 0 | M8: =Table9[[#This Row],[Net Invoice ]]-Table9[[#This Row],[Invoice Paid by Cx]] -> 0 | N8: =D8-K8 -> 0
E9: =(Table9[[#This Row],[Invoice Amount]]*Dashboard!$F$4)/(100%+Dashboard!$F$4) -> 0 | F9: =Table9[[#This Row],[Invoice Amount]]-Table9[[#This Row],[GST/HST]] -> 0 | G9: =SUMIF('Directors Advances'!$H$6:$H$1500,'Sales + Receivables'!B9,'Directors Advances'!$I$6:$I$1500)+SUMIF('Bank 1'!$H$7:$H$1500,'Sales + Receivables'!B9,'Bank 1'!$I$7:$I$1500)+SUMIF('Bank 2'!$H$7:$H$1500,'Sales + Receivables'!B9,'Bank 2'!$I$7:$I$1500)+SUMIF('Credit Card 1'!$H$7:$H$1500,'Sales + Receivables'!B9,'Credit Card 1'!$I$7:$I$1500)+SUMIF('Credit Card 2'!$H$7:$H$1500,'Sales + Receivables'!B9,'Credit Card 2'!$I$7:$I$1500) -> 0 | H9: =SUMIFS('Directors Advances'!$J$6:$J$1500, 'Directors Advances'!$H$6:$H$1500, 'Sales + Receivables'!B9, 'Directors Advances'!$H$6:$H$1500, "<>0") +SUMIFS('Bank 1'!$J$7:$J$1500, 'Bank 1'!$H$7:$H$1500, 'Sales + Receivables'!B9, 'Bank 1'!$H$7:$H$1500, "<>0") +SUMIFS('Bank 2'!$J$7:$J$1500, 'Bank 2'!$H$7:$H$1500, 'Sales + Receivables'!B9, 'Bank 2'!$H$7:$H$1500, "<>0") +SUMIFS('Credit Card 1'!$J$7:$J$1500, 'Credit Card 1'!$H$7:$H$1500, 'Sales + Receivables'!B9, 'Credit Card 1'!$H$7:$H$1500, "<>0") +SUMIFS('Credit Card 2'!$J$7:$J$1500, 'Credit Card 2'!$H$7:$H$1500, 'Sales + Receivables'!B9, 'Credit Card 2'!$H$7:$H$1500, "<>0") -> 0 | K9: =Table9[[#This Row],[Invoice Paid by Cx]]+Table9[[#This Row],[GST Paid by Cx]] -> 0 | L9: =IF(Dashboard!$F$5="Quick",0,Table9[[#This Row],[GST/HST]]-Table9[[#This Row],[GST Paid by Cx]]) -> 0 | M9: =Table9[[#This Row],[Net Invoice ]]-Table9[[#This Row],[Invoice Paid by Cx]] -> 0 | N9: =D9-K9 -> 0
E10: =(Table9[[#This Row],[Invoice Amount]]*Dashboard!$F$4)/(100%+Dashboard!$F$4) -> 0 | F10: =Table9[[#This Row],[Invoice Amount]]-Table9[[#This Row],[GST/HST]] -> 0 | G10: =SUMIF('Directors Advances'!$H$6:$H$1500,'Sales + Receivables'!B10,'Directors Advances'!$I$6:$I$1500)+SUMIF('Bank 1'!$H$7:$H$1500,'Sales + Receivables'!B10,'Bank 1'!$I$7:$I$1500)+SUMIF('Bank 2'!$H$7:$H$1500,'Sales + Receivables'!B10,'Bank 2'!$I$7:$I$1500)+SUMIF('Credit Card 1'!$H$7:$H$1500,'Sales + Receivables'!B10,'Credit Card 1'!$I$7:$I$1500)+SUMIF('Credit Card 2'!$H$7:$H$1500,'Sales + Receivables'!B10,'Credit Card 2'!$I$7:$I$1500) -> 0 | H10: =SUMIFS('Directors Advances'!$J$6:$J$1500, 'Directors Advances'!$H$6:$H$1500, 'Sales + Receivables'!B10, 'Directors Advances'!$H$6:$H$1500, "<>0") +SUMIFS('Bank 1'!$J$7:$J$1500, 'Bank 1'!$H$7:$H$1500, 'Sales + Receivables'!B10, 'Bank 1'!$H$7:$H$1500, "<>0") +SUMIFS('Bank 2'!$J$7:$J$1500, 'Bank 2'!$H$7:$H$1500, 'Sales + Receivables'!B10, 'Bank 2'!$H$7:$H$1500, "<>0") +SUMIFS('Credit Card 1'!$J$7:$J$1500, 'Credit Card 1'!$H$7:$H$1500, 'Sales + Receivables'!B10, 'Credit Card 1'!$H$7:$H$1500, "<>0") +SUMIFS('Credit Card 2'!$J$7:$J$1500, 'Credit Card 2'!$H$7:$H$1500, 'Sales + Receivables'!B10, 'Credit Card 2'!$H$7:$H$1500, "<>0") -> 0 | K10: =Table9[[#This Row],[Invoice Paid by Cx]]+Table9[[#This Row],[GST Paid by Cx]] -> 0 | L10: =IF(Dashboard!$F$5="Quick",0,Table9[[#This Row],[GST/HST]]-Table9[[#This Row],[GST Paid by Cx]]) -> 0 | M10: =Table9[[#This Row],[Net Invoice ]]-Table9[[#This Row],[Invoice Paid by Cx]] -> 0 | N10: =D10-K10 -> 0
E11: =(Table9[[#This Row],[Invoice Amount]]*Dashboard!$F$4)/(100%+Dashboard!$F$4) -> 0 | F11: =Table9[[#This Row],[Invoice Amount]]-Table9[[#This Row],[GST/HST]] -> 0 | G11: =SUMIF('Directors Advances'!$H$6:$H$1500,'Sales + Receivables'!B11,'Directors Advances'!$I$6:$I$1500)+SUMIF('Bank 1'!$H$7:$H$1500,'Sales + Receivables'!B11,'Bank 1'!$I$7:$I$1500)+SUMIF('Bank 2'!$H$7:$H$1500,'Sales + Receivables'!B11,'Bank 2'!$I$7:$I$1500)+SUMIF('Credit Card 1'!$H$7:$H$1500,'Sales + Receivables'!B11,'Credit Card 1'!$I$7:$I$1500)+SUMIF('Credit Card 2'!$H$7:$H$1500,'Sales + Receivables'!B11,'Credit Card 2'!$I$7:$I$1500) -> 0 | H11: =SUMIFS('Directors Advances'!$J$6:$J$1500, 'Directors Advances'!$H$6:$H$1500, 'Sales + Receivables'!B11, 'Directors Advances'!$H$6:$H$1500, "<>0") +SUMIFS('Bank 1'!$J$7:$J$1500, 'Bank 1'!$H$7:$H$1500, 'Sales + Receivables'!B11, 'Bank 1'!$H$7:$H$1500, "<>0") +SUMIFS('Bank 2'!$J$7:$J$1500, 'Bank 2'!$H$7:$H$1500, 'Sales + Receivables'!B11, 'Bank 2'!$H$7:$H$1500, "<>0") +SUMIFS('Credit Card 1'!$J$7:$J$1500, 'Credit Card 1'!$H$7:$H$1500, 'Sales + Receivables'!B11, 'Credit Card 1'!$H$7:$H$1500, "<>0") +SUMIFS('Credit Card 2'!$J$7:$J$1500, 'Credit Card 2'!$H$7:$H$1500, 'Sales + Receivables'!B11, 'Credit Card 2'!$H$7:$H$1500, "<>0") -> 0 | K11: =Table9[[#This Row],[Invoice Paid by Cx]]+Table9[[#This Row],[GST Paid by Cx]] -> 0 | L11: =IF(Dashboard!$F$5="Quick",0,Table9[[#This Row],[GST/HST]]-Table9[[#This Row],[GST Paid by Cx]]) -> 0 | M11: =Table9[[#This Row],[Net Invoice ]]-Table9[[#This Row],[Invoice Paid by Cx]] -> 0 | N11: =D11-K11 -> 0
E12: =(Table9[[#This Row],[Invoice Amount]]*Dashboard!$F$4)/(100%+Dashboard!$F$4) -> 0 | F12: =Table9[[#This Row],[Invoice Amount]]-Table9[[#This Row],[GST/HST]] -> 0 | G12: =SUMIF('Directors Advances'!$H$6:$H$1500,'Sales + Receivables'!B12,'Directors Advances'!$I$6:$I$1500)+SUMIF('Bank 1'!$H$7:$H$1500,'Sales + Receivables'!B12,'Bank 1'!$I$7:$I$1500)+SUMIF('Bank 2'!$H$7:$H$1500,'Sales + Receivables'!B12,'Bank 2'!$I$7:$I$1500)+SUMIF('Credit Card 1'!$H$7:$H$1500,'Sales + Receivables'!B12,'Credit Card 1'!$I$7:$I$1500)+SUMIF('Credit Card 2'!$H$7:$H$1500,'Sales + Receivables'!B12,'Credit Card 2'!$I$7:$I$1500) -> 0 | H12: =SUMIFS('Directors Advances'!$J$6:$J$1500, 'Directors Advances'!$H$6:$H$1500, 'Sales + Receivables'!B12, 'Directors Advances'!$H$6:$H$1500, "<>0") +SUMIFS('Bank 1'!$J$7:$J$1500, 'Bank 1'!$H$7:$H$1500, 'Sales + Receivables'!B12, 'Bank 1'!$H$7:$H$1500, "<>0") +SUMIFS('Bank 2'!$J$7:$J$1500, 'Bank 2'!$H$7:$H$1500, 'Sales + Receivables'!B12, 'Bank 2'!$H$7:$H$1500, "<>0") +SUMIFS('Credit Card 1'!$J$7:$J$1500, 'Credit Card 1'!$H$7:$H$1500, 'Sales + Receivables'!B12, 'Credit Card 1'!$H$7:$H$1500, "<>0") +SUMIFS('Credit Card 2'!$J$7:$J$1500, 'Credit Card 2'!$H$7:$H$1500, 'Sales + Receivables'!B12, 'Credit Card 2'!$H$7:$H$1500, "<>0") -> 0 | K12: =Table9[[#This Row],[Invoice Paid by Cx]]+Table9[[#This Row],[GST Paid by Cx]] -> 0 | L12: =IF(Dashboard!$F$5="Quick",0,Table9[[#This Row],[GST/HST]]-Table9[[#This Row],[GST Paid by Cx]]) -> 0 | M12: =Table9[[#This Row],[Net Invoice ]]-Table9[[#This Row],[Invoice Paid by Cx]] -> 0 | N12: =D12-K12 -> 0
E13: =(Table9[[#This Row],[Invoice Amount]]*Dashboard!$F$4)/(100%+Dashboard!$F$4) -> 0 | F13: =Table9[[#This Row],[Invoice Amount]]-Table9[[#This Row],[GST/HST]] -> 0 | G13: =SUMIF('Directors Advances'!$H$6:$H$1500,'Sales + Receivables'!B13,'Directors Advances'!$I$6:$I$1500)+SUMIF('Bank 1'!$H$7:$H$1500,'Sales + Receivables'!B13,'Bank 1'!$I$7:$I$1500)+SUMIF('Bank 2'!$H$7:$H$1500,'Sales + Receivables'!B13,'Bank 2'!$I$7:$I$1500)+SUMIF('Credit Card 1'!$H$7:$H$1500,'Sales + Receivables'!B13,'Credit Card 1'!$I$7:$I$1500)+SUMIF('Credit Card 2'!$H$7:$H$1500,'Sales + Receivables'!B13,'Credit Card 2'!$I$7:$I$1500) -> 0 | H13: =SUMIFS('Directors Advances'!$J$6:$J$1500, 'Directors Advances'!$H$6:$H$1500, 'Sales + Receivables'!B13, 'Directors Advances'!$H$6:$H$1500, "<>0") +SUMIFS('Bank 1'!$J$7:$J$1500, 'Bank 1'!$H$7:$H$1500, 'Sales + Receivables'!B13, 'Bank 1'!$H$7:$H$1500, "<>0") +SUMIFS('Bank 2'!$J$7:$J$1500, 'Bank 2'!$H$7:$H$1500, 'Sales + Receivables'!B13, 'Bank 2'!$H$7:$H$1500, "<>0") +SUMIFS('Credit Card 1'!$J$7:$J$1500, 'Credit Card 1'!$H$7:$H$1500, 'Sales + Receivables'!B13, 'Credit Card 1'!$H$7:$H$1500, "<>0") +SUMIFS('Credit Card 2'!$J$7:$J$1500, 'Credit Card 2'!$H$7:$H$1500, 'Sales + Receivables'!B13, 'Credit Card 2'!$H$7:$H$1500, "<>0") -> 0 | K13: =Table9[[#This Row],[Invoice Paid by Cx]]+Table9[[#This Row],[GST Paid by Cx]] -> 0 | L13: =IF(Dashboard!$F$5="Quick",0,Table9[[#This Row],[GST/HST]]-Table9[[#This Row],[GST Paid by Cx]]) -> 0 | M13: =Table9[[#This Row],[Net Invoice ]]-Table9[[#This Row],[Invoice Paid by Cx]] -> 0 | N13: =D13-K13 -> 0
E14: =(Table9[[#This Row],[Invoice Amount]]*Dashboard!$F$4)/(100%+Dashboard!$F$4) -> 0 | F14: =Table9[[#This Row],[Invoice Amount]]-Table9[[#This Row],[GST/HST]] -> 0 | G14: =SUMIF('Directors Advances'!$H$6:$H$1500,'Sales + Receivables'!B14,'Directors Advances'!$I$6:$I$1500)+SUMIF('Bank 1'!$H$7:$H$1500,'Sales + Receivables'!B14,'Bank 1'!$I$7:$I$1500)+SUMIF('Bank 2'!$H$7:$H$1500,'Sales + Receivables'!B14,'Bank 2'!$I$7:$I$1500)+SUMIF('Credit Card 1'!$H$7:$H$1500,'Sales + Receivables'!B14,'Credit Card 1'!$I$7:$I$1500)+SUMIF('Credit Card 2'!$H$7:$H$1500,'Sales + Receivables'!B14,'Credit Card 2'!$I$7:$I$1500) -> 0 | H14: =SUMIFS('Directors Advances'!$J$6:$J$1500, 'Directors Advances'!$H$6:$H$1500, 'Sales + Receivables'!B14, 'Directors Advances'!$H$6:$H$1500, "<>0") +SUMIFS('Bank 1'!$J$7:$J$1500, 'Bank 1'!$H$7:$H$1500, 'Sales + Receivables'!B14, 'Bank 1'!$H$7:$H$1500, "<>0") +SUMIFS('Bank 2'!$J$7:$J$1500, 'Bank 2'!$H$7:$H$1500, 'Sales + Receivables'!B14, 'Bank 2'!$H$7:$H$1500, "<>0") +SUMIFS('Credit Card 1'!$J$7:$J$1500, 'Credit Card 1'!$H$7:$H$1500, 'Sales + Receivables'!B14, 'Credit Card 1'!$H$7:$H$1500, "<>0") +SUMIFS('Credit Card 2'!$J$7:$J$1500, 'Credit Card 2'!$H$7:$H$1500, 'Sales + Receivables'!B14, 'Credit Card 2'!$H$7:$H$1500, "<>0") -> 0 | K14: =Table9[[#This Row],[Invoice Paid by Cx]]+Table9[[#This Row],[GST Paid by Cx]] -> 0 | L14: =IF(Dashboard!$F$5="Quick",0,Table9[[#This Row],[GST/HST]]-Table9[[#This Row],[GST Paid by Cx]]) -> 0 | M14: =Table9[[#This Row],[Net Invoice ]]-Table9[[#This Row],[Invoice Paid by Cx]] -> 0 | N14: =D14-K14 -> 0
E15: =(Table9[[#This Row],[Invoice Amount]]*Dashboard!$F$4)/(100%+Dashboard!$F$4) -> 0 | F15: =Table9[[#This Row],[Invoice Amount]]-Table9[[#This Row],[GST/HST]] -> 0 | G15: =SUMIF('Directors Advances'!$H$6:$H$1500,'Sales + Receivables'!B15,'Directors Advances'!$I$6:$I$1500)+SUMIF('Bank 1'!$H$7:$H$1500,'Sales + Receivables'!B15,'Bank 1'!$I$7:$I$1500)+SUMIF('Bank 2'!$H$7:$H$1500,'Sales + Receivables'!B15,'Bank 2'!$I$7:$I$1500)+SUMIF('Credit Card 1'!$H$7:$H$1500,'Sales + Receivables'!B15,'Credit Card 1'!$I$7:$I$1500)+SUMIF('Credit Card 2'!$H$7:$H$1500,'Sales + Receivables'!B15,'Credit Card 2'!$I$7:$I$1500) -> 0 | H15: =SUMIFS('Directors Advances'!$J$6:$J$1500, 'Directors Advances'!$H$6:$H$1500, 'Sales + Receivables'!B15, 'Directors Advances'!$H$6:$H$1500, "<>0") +SUMIFS('Bank 1'!$J$7:$J$1500, 'Bank 1'!$H$7:$H$1500, 'Sales + Receivables'!B15, 'Bank 1'!$H$7:$H$1500, "<>0") +SUMIFS('Bank 2'!$J$7:$J$1500, 'Bank 2'!$H$7:$H$1500, 'Sales + Receivables'!B15, 'Bank 2'!$H$7:$H$1500, "<>0") +SUMIFS('Credit Card 1'!$J$7:$J$1500, 'Credit Card 1'!$H$7:$H$1500, 'Sales + Receivables'!B15, 'Credit Card 1'!$H$7:$H$1500, "<>0") +SUMIFS('Credit Card 2'!$J$7:$J$1500, 'Credit Card 2'!$H$7:$H$1500, 'Sales + Receivables'!B15, 'Credit Card 2'!$H$7:$H$1500, "<>0") -> 0 | K15: =Table9[[#This Row],[Invoice Paid by Cx]]+Table9[[#This Row],[GST Paid by Cx]] -> 0 | L15: =IF(Dashboard!$F$5="Quick",0,Table9[[#This Row],[GST/HST]]-Table9[[#This Row],[GST Paid by Cx]]) -> 0 | M15: =Table9[[#This Row],[Net Invoice ]]-Table9[[#This Row],[Invoice Paid by Cx]] -> 0 | N15: =D15-K15 -> 0
E16: =(Table9[[#This Row],[Invoice Amount]]*Dashboard!$F$4)/(100%+Dashboard!$F$4) -> 0 | F16: =Table9[[#This Row],[Invoice Amount]]-Table9[[#This Row],[GST/HST]] -> 0 | G16: =SUMIF('Directors Advances'!$H$6:$H$1500,'Sales + Receivables'!B16,'Directors Advances'!$I$6:$I$1500)+SUMIF('Bank 1'!$H$7:$H$1500,'Sales + Receivables'!B16,'Bank 1'!$I$7:$I$1500)+SUMIF('Bank 2'!$H$7:$H$1500,'Sales + Receivables'!B16,'Bank 2'!$I$7:$I$1500)+SUMIF('Credit Card 1'!$H$7:$H$1500,'Sales + Receivables'!B16,'Credit Card 1'!$I$7:$I$1500)+SUMIF('Credit Card 2'!$H$7:$H$1500,'Sales + Receivables'!B16,'Credit Card 2'!$I$7:$I$1500) -> 0 | H16: =SUMIFS('Directors Advances'!$J$6:$J$1500, 'Directors Advances'!$H$6:$H$1500, 'Sales + Receivables'!B16, 'Directors Advances'!$H$6:$H$1500, "<>0") +SUMIFS('Bank 1'!$J$7:$J$1500, 'Bank 1'!$H$7:$H$1500, 'Sales + Receivables'!B16, 'Bank 1'!$H$7:$H$1500, "<>0") +SUMIFS('Bank 2'!$J$7:$J$1500, 'Bank 2'!$H$7:$H$1500, 'Sales + Receivables'!B16, 'Bank 2'!$H$7:$H$1500, "<>0") +SUMIFS('Credit Card 1'!$J$7:$J$1500, 'Credit Card 1'!$H$7:$H$1500, 'Sales + Receivables'!B16, 'Credit Card 1'!$H$7:$H$1500, "<>0") +SUMIFS('Credit Card 2'!$J$7:$J$1500, 'Credit Card 2'!$H$7:$H$1500, 'Sales + Receivables'!B16, 'Credit Card 2'!$H$7:$H$1500, "<>0") -> 0 | K16: =Table9[[#This Row],[Invoice Paid by Cx]]+Table9[[#This Row],[GST Paid by Cx]] -> 0 | L16: =IF(Dashboard!$F$5="Quick",0,Table9[[#This Row],[GST/HST]]-Table9[[#This Row],[GST Paid by Cx]]) -> 0 | M16: =Table9[[#This Row],[Net Invoice ]]-Table9[[#This Row],[Invoice Paid by Cx]] -> 0 | N16: =D16-K16 -> 0
E17: =(Table9[[#This Row],[Invoice Amount]]*Dashboard!$F$4)/(100%+Dashboard!$F$4) -> 0 | F17: =Table9[[#This Row],[Invoice Amount]]-Table9[[#This Row],[GST/HST]] -> 0 | G17: =SUMIF('Directors Advances'!$H$6:$H$1500,'Sales + Receivables'!B17,'Directors Advances'!$I$6:$I$1500)+SUMIF('Bank 1'!$H$7:$H$1500,'Sales + Receivables'!B17,'Bank 1'!$I$7:$I$1500)+SUMIF('Bank 2'!$H$7:$H$1500,'Sales + Receivables'!B17,'Bank 2'!$I$7:$I$1500)+SUMIF('Credit Card 1'!$H$7:$H$1500,'Sales + Receivables'!B17,'Credit Card 1'!$I$7:$I$1500)+SUMIF('Credit Card 2'!$H$7:$H$1500,'Sales + Receivables'!B17,'Credit Card 2'!$I$7:$I$1500) -> 0 | H17: =SUMIFS('Directors Advances'!$J$6:$J$1500, 'Directors Advances'!$H$6:$H$1500, 'Sales + Receivables'!B17, 'Directors Advances'!$H$6:$H$1500, "<>0") +SUMIFS('Bank 1'!$J$7:$J$1500, 'Bank 1'!$H$7:$H$1500, 'Sales + Receivables'!B17, 'Bank 1'!$H$7:$H$1500, "<>0") +SUMIFS('Bank 2'!$J$7:$J$1500, 'Bank 2'!$H$7:$H$1500, 'Sales + Receivables'!B17, 'Bank 2'!$H$7:$H$1500, "<>0") +SUMIFS('Credit Card 1'!$J$7:$J$1500, 'Credit Card 1'!$H$7:$H$1500, 'Sales + Receivables'!B17, 'Credit Card 1'!$H$7:$H$1500, "<>0") +SUMIFS('Credit Card 2'!$J$7:$J$1500, 'Credit Card 2'!$H$7:$H$1500, 'Sales + Receivables'!B17, 'Credit Card 2'!$H$7:$H$1500, "<>0") -> 0 | K17: =Table9[[#This Row],[Invoice Paid by Cx]]+Table9[[#This Row],[GST Paid by Cx]] -> 0 | L17: =IF(Dashboard!$F$5="Quick",0,Table9[[#This Row],[GST/HST]]-Table9[[#This Row],[GST Paid by Cx]]) -> 0 | M17: =Table9[[#This Row],[Net Invoice ]]-Table9[[#This Row],[Invoice Paid by Cx]] -> 0 | N17: =D17-K17 -> 0
... E152: =(Table9[[#This Row],[Invoice Amount]]*Dashboard!$F$4)/(100%+Dashboard!$F$4) -> 0 | F152: =Table9[[#This Row],[Invoice Amount]]-Table9[[#This Row],[GST/HST]] -> 0 | G152: =SUMIF('Directors Advances'!$H$6:$H$1500,'Sales + Receivables'!B152,'Directors Advances'!$I$6:$I$1500)+SUMIF('Bank 1'!$H$7:$H$1500,'Sales + Receivables'!B152,'Bank 1'!$I$7:$I$1500)+SUMIF('Bank 2'!$H$7:$H$1500,'Sales + Receivables'!B152,'Bank 2'!$I$7:$I$1500)+SUMIF('Credit Card 1'!$H$7:$H$1500,'Sales + Receivables'!B152,'Credit Card 1'!$I$7:$I$1500)+SUMIF('Credit Card 2'!$H$7:$H$1500,'Sales + Receivables'!B152,'Credit Card 2'!$I$7:$I$1500) -> 0 | H152: =SUMIFS('Directors Advances'!$J$6:$J$1500, 'Directors Advances'!$H$6:$H$1500, 'Sales + Receivables'!B152, 'Directors Advances'!$H$6:$H$1500, "<>0") +SUMIFS('Bank 1'!$J$7:$J$1500, 'Bank 1'!$H$7:$H$1500, 'Sales + Receivables'!B152, 'Bank 1'!$H$7:$H$1500, "<>0") +SUMIFS('Bank 2'!$J$7:$J$1500, 'Bank 2'!$H$7:$H$1500, 'Sales + Receivables'!B152, 'Bank 2'!$H$7:$H$1500, "<>0") +SUMIFS('Credit Card 1'!$J$7:$J$1500, 'Credit Card 1'!$H$7:$H$1500, 'Sales + Receivables'!B152, 'Credit Card 1'!$H$7:$H$1500, "<>0") +SUMIFS('Credit Card 2'!$J$7:$J$1500, 'Credit Card 2'!$H$7:$H$1500, 'Sales + Receivables'!B152, 'Credit Card 2'!$H$7:$H$1500, "<>0") -> 0 | K152: =Table9[[#This Row],[Invoice Paid by Cx]]+Table9[[#This Row],[GST Paid by Cx]] -> 0 | L152: =IF(Dashboard!$F$5="Quick",0,Table9[[#This Row],[GST/HST]]-Table9[[#This Row],[GST Paid by Cx]]) -> 0 | M152: =Table9[[#This Row],[Net Invoice ]]-Table9[[#This Row],[Invoice Paid by Cx]] -> 0 | N152: =D152-K152 -> 0

Sheet Directors Advances
A1: Client Name: | B1: =Dashboard!B3 -> (Enter Company name) | C1: Bank Name: | E1: =Dashboard!A15 -> Directors Advance | G1: Total inflows | H1: =SUMIF(E7:E1048576,">0") -> 0 | L1: Internal reporting account
A2: Period End: | B2: =Dashboard!B5 -> 46234 | C2: Account Number: | E2: =Dashboard!B15 -> 1111111 | G2: Total outflows | H2: =SUMIF(E7:E1048576,"<0") -> 0 | L2: TO BE ENTERED BY CPA IN DASHBOARD
C3: Opening Balance: | E3: =Dashboard!E15 -> 0 | G3: Closing Balance: | H3: =E3+H1+H2 -> 0 | L3: =Dashboard!C15 -> 0
A4: (DD-MM-YYYY) | I4: =SUBTOTAL(9,Bank1[GST/HST]) -> 0
A5: Date | B5: Description | C5: Chart of Accounts | D5: Account Name | E5: Money in/ (Money out) | F5: Bank account number | G5: Balance | H5: Invoice Number | I5: GST/HST | J5: Net amount | K5: Memo | L5: Internal reporting account number
B6: Opening Balance | G6: =E3 -> 0 | I6: =IF(OR(C6="150 Directors advances", C6="120 accounts receivable", C6="720.2 Automobile - Insurance", C6="720.3 Automobile - License", C6="870.4 Rent - Insurance", C6="870.6 Rent - Property Tax", C6="870.7 Rent - Homeoffice", C6="870.9 Rent - Water"), 0, IF(Dashboard!$F$5="Quick", IF(OR(C6="190 Automobile",C6="200 computer hardware",C6="210 Computer software",C6="220 Quickbooks software",C6="230 Office equipment",C6="240 Office furniture"), E6-(E6/(1+Dashboard!$F$4)), 0 ), IF(C6="750 Business promotion", E6-(E6/(1+4.793/100)), E6-(E6/(1+Dashboard!$F$4)) ) ) ) -> 0 | J6: =Bank1[[#This Row],[Money in/ (Money out)]]-Bank1[[#This Row],[GST/HST]] -> 0 | L6: =$L$3 -> 0
B7: Please ignore this | C7: 999 Uncategorized expenses | D7: =_xlfn.XLOOKUP(C:C,Table1[for Import to Bank Register dropdown],Table1[for Pivot],0,0,1) -> 999 Uncategorized expenses | E7: 0 | F7: =$E$2 -> 1111111 | G7: =G6+E7 -> 0 | I7: =IF(OR(C7="150 Directors advances", C7="120 accounts receivable", C7="720.2 Automobile - Insurance", C7="720.3 Automobile - License", C7="870.4 Rent - Insurance", C7="870.6 Rent - Property Tax", C7="870.7 Rent - Homeoffice", C7="870.9 Rent - Water"), 0, IF(Dashboard!$F$5="Quick", IF(OR(C7="190 Automobile",C7="200 computer hardware",C7="210 Computer software",C7="220 Quickbooks software",C7="230 Office equipment",C7="240 Office furniture"), E7-(E7/(1+Dashboard!$F$4)), 0 ), IF(C7="750 Business promotion", E7-(E7/(1+4.793/100)), E7-(E7/(1+Dashboard!$F$4)) ) ) ) -> 0 | J7: =Bank1[[#This Row],[Money in/ (Money out)]]-Bank1[[#This Row],[GST/HST]] -> 0 | L7: =$L$3 -> 0
D8: =_xlfn.XLOOKUP(C:C,Table1[for Import to Bank Register dropdown],Table1[for Pivot],0,0,1) -> 0 | F8: =$E$2 -> 1111111 | G8: =G7+E8 -> 0 | I8: =IF(OR(C8="150 Directors advances", C8="120 accounts receivable", C8="720.2 Automobile - Insurance", C8="720.3 Automobile - License", C8="870.4 Rent - Insurance", C8="870.6 Rent - Property Tax", C8="870.7 Rent - Homeoffice", C8="870.9 Rent - Water"), 0, IF(Dashboard!$F$5="Quick", IF(OR(C8="190 Automobile",C8="200 computer hardware",C8="210 Computer software",C8="220 Quickbooks software",C8="230 Office equipment",C8="240 Office furniture"), E8-(E8/(1+Dashboard!$F$4)), 0 ), IF(C8="750 Business promotion", E8-(E8/(1+4.793/100)), E8-(E8/(1+Dashboard!$F$4)) ) ) ) -> 0 | J8: =Bank1[[#This Row],[Money in/ (Money out)]]-Bank1[[#This Row],[GST/HST]] -> 0 | L8: =$L$3 -> 0
D9: =_xlfn.XLOOKUP(C:C,Table1[for Import to Bank Register dropdown],Table1[for Pivot],0,0,1) -> 0 | F9: =$E$2 -> 1111111 | G9: =G8+E9 -> 0 | I9: =IF(OR(C9="150 Directors advances", C9="120 accounts receivable", C9="720.2 Automobile - Insurance", C9="720.3 Automobile - License", C9="870.4 Rent - Insurance", C9="870.6 Rent - Property Tax", C9="870.7 Rent - Homeoffice", C9="870.9 Rent - Water"), 0, IF(Dashboard!$F$5="Quick", IF(OR(C9="190 Automobile",C9="200 computer hardware",C9="210 Computer software",C9="220 Quickbooks software",C9="230 Office equipment",C9="240 Office furniture"), E9-(E9/(1+Dashboard!$F$4)), 0 ), IF(C9="750 Business promotion", E9-(E9/(1+4.793/100)), E9-(E9/(1+Dashboard!$F$4)) ) ) ) -> 0 | J9: =Bank1[[#This Row],[Money in/ (Money out)]]-Bank1[[#This Row],[GST/HST]] -> 0 | L9: =$L$3 -> 0
D10: =_xlfn.XLOOKUP(C:C,Table1[for Import to Bank Register dropdown],Table1[for Pivot],0,0,1) -> 0 | F10: =$E$2 -> 1111111 | G10: =G9+E10 -> 0 | I10: =IF(OR(C10="150 Directors advances", C10="120 accounts receivable", C10="720.2 Automobile - Insurance", C10="720.3 Automobile - License", C10="870.4 Rent - Insurance", C10="870.6 Rent - Property Tax", C10="870.7 Rent - Homeoffice", C10="870.9 Rent - Water"), 0, IF(Dashboard!$F$5="Quick", IF(OR(C10="190 Automobile",C10="200 computer hardware",C10="210 Computer software",C10="220 Quickbooks software",C10="230 Office equipment",C10="240 Office furniture"), E10-(E10/(1+Dashboard!$F$4)), 0 ), IF(C10="750 Business promotion", E10-(E10/(1+4.793/100)), E10-(E10/(1+Dashboard!$F$4)) ) ) ) -> 0 | J10: =Bank1[[#This Row],[Money in/ (Money out)]]-Bank1[[#This Row],[GST/HST]] -> 0 | L10: =$L$3 -> 0
D11: =_xlfn.XLOOKUP(C:C,Table1[for Import to Bank Register dropdown],Table1[for Pivot],0,0,1) -> 0 | F11: =$E$2 -> 1111111 | G11: =G10+E11 -> 0 | I11: =IF(OR(C11="150 Directors advances", C11="120 accounts receivable", C11="720.2 Automobile - Insurance", C11="720.3 Automobile - License", C11="870.4 Rent - Insurance", C11="870.6 Rent - Property Tax", C11="870.7 Rent - Homeoffice", C11="870.9 Rent - Water"), 0, IF(Dashboard!$F$5="Quick", IF(OR(C11="190 Automobile",C11="200 computer hardware",C11="210 Computer software",C11="220 Quickbooks software",C11="230 Office equipment",C11="240 Office furniture"), E11-(E11/(1+Dashboard!$F$4)), 0 ), IF(C11="750 Business promotion", E11-(E11/(1+4.793/100)), E11-(E11/(1+Dashboard!$F$4)) ) ) ) -> 0 | J11: =Bank1[[#This Row],[Money in/ (Money out)]]-Bank1[[#This Row],[GST/HST]] -> 0 | L11: =$L$3 -> 0
D12: =_xlfn.XLOOKUP(C:C,Table1[for Import to Bank Register dropdown],Table1[for Pivot],0,0,1) -> 0 | F12: =$E$2 -> 1111111 | G12: =G11+E12 -> 0 | I12: =IF(OR(C12="150 Directors advances", C12="120 accounts receivable", C12="720.2 Automobile - Insurance", C12="720.3 Automobile - License", C12="870.4 Rent - Insurance", C12="870.6 Rent - Property Tax", C12="870.7 Rent - Homeoffice", C12="870.9 Rent - Water"), 0, IF(Dashboard!$F$5="Quick", IF(OR(C12="190 Automobile",C12="200 computer hardware",C12="210 Computer software",C12="220 Quickbooks software",C12="230 Office equipment",C12="240 Office furniture"), E12-(E12/(1+Dashboard!$F$4)), 0 ), IF(C12="750 Business promotion", E12-(E12/(1+4.793/100)), E12-(E12/(1+Dashboard!$F$4)) ) ) ) -> 0 | J12: =Bank1[[#This Row],[Money in/ (Money out)]]-Bank1[[#This Row],[GST/HST]] -> 0 | L12: =$L$3 -> 0
D13: =_xlfn.XLOOKUP(C:C,Table1[for Import to Bank Register dropdown],Table1[for Pivot],0,0,1) -> 0 | F13: =$E$2 -> 1111111 | G13: =G12+E13 -> 0 | I13: =IF(OR(C13="150 Directors advances", C13="120 accounts receivable", C13="720.2 Automobile - Insurance", C13="720.3 Automobile - License", C13="870.4 Rent - Insurance", C13="870.6 Rent - Property Tax", C13="870.7 Rent - Homeoffice", C13="870.9 Rent - Water"), 0, IF(Dashboard!$F$5="Quick", IF(OR(C13="190 Automobile",C13="200 computer hardware",C13="210 Computer software",C13="220 Quickbooks software",C13="230 Office equipment",C13="240 Office furniture"), E13-(E13/(1+Dashboard!$F$4)), 0 ), IF(C13="750 Business promotion", E13-(E13/(1+4.793/100)), E13-(E13/(1+Dashboard!$F$4)) ) ) ) -> 0 | J13: =Bank1[[#This Row],[Money in/ (Money out)]]-Bank1[[#This Row],[GST/HST]] -> 0 | L13: =$L$3 -> 0
D14: =_xlfn.XLOOKUP(C:C,Table1[for Import to Bank Register dropdown],Table1[for Pivot],0,0,1) -> 0 | F14: =$E$2 -> 1111111 | G14: =G13+E14 -> 0 | I14: =IF(OR(C14="150 Directors advances", C14="120 accounts receivable", C14="720.2 Automobile - Insurance", C14="720.3 Automobile - License", C14="870.4 Rent - Insurance", C14="870.6 Rent - Property Tax", C14="870.7 Rent - Homeoffice", C14="870.9 Rent - Water"), 0, IF(Dashboard!$F$5="Quick", IF(OR(C14="190 Automobile",C14="200 computer hardware",C14="210 Computer software",C14="220 Quickbooks software",C14="230 Office equipment",C14="240 Office furniture"), E14-(E14/(1+Dashboard!$F$4)), 0 ), IF(C14="750 Business promotion", E14-(E14/(1+4.793/100)), E14-(E14/(1+Dashboard!$F$4)) ) ) ) -> 0 | J14: =Bank1[[#This Row],[Money in/ (Money out)]]-Bank1[[#This Row],[GST/HST]] -> 0 | L14: =$L$3 -> 0
D15: =_xlfn.XLOOKUP(C:C,Table1[for Import to Bank Register dropdown],Table1[for Pivot],0,0,1) -> 0 | F15: =$E$2 -> 1111111 | G15: =G14+E15 -> 0 | I15: =IF(OR(C15="150 Directors advances", C15="120 accounts receivable", C15="720.2 Automobile - Insurance", C15="720.3 Automobile - License", C15="870.4 Rent - Insurance", C15="870.6 Rent - Property Tax", C15="870.7 Rent - Homeoffice", C15="870.9 Rent - Water"), 0, IF(Dashboard!$F$5="Quick", IF(OR(C15="190 Automobile",C15="200 computer hardware",C15="210 Computer software",C15="220 Quickbooks software",C15="230 Office equipment",C15="240 Office furniture"), E15-(E15/(1+Dashboard!$F$4)), 0 ), IF(C15="750 Business promotion", E15-(E15/(1+4.793/100)), E15-(E15/(1+Dashboard!$F$4)) ) ) ) -> 0 | J15: =Bank1[[#This Row],[Money in/ (Money out)]]-Bank1[[#This Row],[GST/HST]] -> 0 | L15: =$L$3 -> 0
D16: =_xlfn.XLOOKUP(C:C,Table1[for Import to Bank Register dropdown],Table1[for Pivot],0,0,1) -> 0 | F16: =$E$2 -> 1111111 | G16: =G15+E16 -> 0 | I16: =IF(OR(C16="150 Directors advances", C16="120 accounts receivable", C16="720.2 Automobile - Insurance", C16="720.3 Automobile - License", C16="870.4 Rent - Insurance", C16="870.6 Rent - Property Tax", C16="870.7 Rent - Homeoffice", C16="870.9 Rent - Water"), 0, IF(Dashboard!$F$5="Quick", IF(OR(C16="190 Automobile",C16="200 computer hardware",C16="210 Computer software",C16="220 Quickbooks software",C16="230 Office equipment",C16="240 Office furniture"), E16-(E16/(1+Dashboard!$F$4)), 0 ), IF(C16="750 Business promotion", E16-(E16/(1+4.793/100)), E16-(E16/(1+Dashboard!$F$4)) ) ) ) -> 0 | J16: =Bank1[[#This Row],[Money in/ (Money out)]]-Bank1[[#This Row],[GST/HST]] -> 0 | L16: =$L$3 -> 0
D17: =_xlfn.XLOOKUP(C:C,Table1[for Import to Bank Register dropdown],Table1[for Pivot],0,0,1) -> 0 | F17: =$E$2 -> 1111111 | G17: =G16+E17 -> 0 | I17: =IF(OR(C17="150 Directors advances", C17="120 accounts receivable", C17="720.2 Automobile - Insurance", C17="720.3 Automobile - License", C17="870.4 Rent - Insurance", C17="870.6 Rent - Property Tax", C17="870.7 Rent - Homeoffice", C17="870.9 Rent - Water"), 0, IF(Dashboard!$F$5="Quick", IF(OR(C17="190 Automobile",C17="200 computer hardware",C17="210 Computer software",C17="220 Quickbooks software",C17="230 Office equipment",C17="240 Office furniture"), E17-(E17/(1+Dashboard!$F$4)), 0 ), IF(C17="750 Business promotion", E17-(E17/(1+4.793/100)), E17-(E17/(1+Dashboard!$F$4)) ) ) ) -> 0 | J17: =Bank1[[#This Row],[Money in/ (Money out)]]-Bank1[[#This Row],[GST/HST]] -> 0 | L17: =$L$3 -> 0
D18: =_xlfn.XLOOKUP(C:C,Table1[for Import to Bank Register dropdown],Table1[for Pivot],0,0,1) -> 0 | F18: =$E$2 -> 1111111 | G18: =G17+E18 -> 0 | I18: =IF(OR(C18="150 Directors advances", C18="120 accounts receivable", C18="720.2 Automobile - Insurance", C18="720.3 Automobile - License", C18="870.4 Rent - Insurance", C18="870.6 Rent - Property Tax", C18="870.7 Rent - Homeoffice", C18="870.9 Rent - Water"), 0, IF(Dashboard!$F$5="Quick", IF(OR(C18="190 Automobile",C18="200 computer hardware",C18="210 Computer software",C18="220 Quickbooks software",C18="230 Office equipment",C18="240 Office furniture"), E18-(E18/(1+Dashboard!$F$4)), 0 ), IF(C18="750 Business promotion", E18-(E18/(1+4.793/100)), E18-(E18/(1+Dashboard!$F$4)) ) ) ) -> 0 | J18: =Bank1[[#This Row],[Money in/ (Money out)]]-Bank1[[#This Row],[GST/HST]] -> 0 | L18: =$L$3 -> 0
D19: =_xlfn.XLOOKUP(C:C,Table1[for Import to Bank Register dropdown],Table1[for Pivot],0,0,1) -> 0 | F19: =$E$2 -> 1111111 | G19: =G18+E19 -> 0 | I19: =IF(OR(C19="150 Directors advances", C19="120 accounts receivable", C19="720.2 Automobile - Insurance", C19="720.3 Automobile - License", C19="870.4 Rent - Insurance", C19="870.6 Rent - Property Tax", C19="870.7 Rent - Homeoffice", C19="870.9 Rent - Water"), 0, IF(Dashboard!$F$5="Quick", IF(OR(C19="190 Automobile",C19="200 computer hardware",C19="210 Computer software",C19="220 Quickbooks software",C19="230 Office equipment",C19="240 Office furniture"), E19-(E19/(1+Dashboard!$F$4)), 0 ), IF(C19="750 Business promotion", E19-(E19/(1+4.793/100)), E19-(E19/(1+Dashboard!$F$4)) ) ) ) -> 0 | J19: =Bank1[[#This Row],[Money in/ (Money out)]]-Bank1[[#This Row],[GST/HST]] -> 0 | L19: =$L$3 -> 0
... D1500: =_xlfn.XLOOKUP(C:C,Table1[for Import to Bank Register dropdown],Table1[for Pivot],0,0,1) -> 0 | F1500: =$E$2 -> 1111111 | G1500: =G1499+E1500 -> 0 | I1500: =IF(OR(C1500="150 Directors advances", C1500="120 accounts receivable", C1500="720.2 Automobile - Insurance", C1500="720.3 Automobile - License", C1500="870.4 Rent - Insurance", C1500="870.6 Rent - Property Tax", C1500="870.7 Rent - Homeoffice", C1500="870.9 Rent - Water"), 0, IF(Dashboard!$F$5="Quick", IF(OR(C1500="190 Automobile",C1500="200 computer hardware",C1500="210 Computer software",C1500="220 Quickbooks software",C1500="230 Office equipment",C1500="240 Office furniture"), E1500-(E1500/(1+Dashboard!$F$4)), 0 ), IF(C1500="750 Business promotion", E1500-(E1500/(1+4.793/100)), E1500-(E1500/(1+Dashboard!$F$4)) ) ) ) -> 0 | J1500: =Bank1[[#This Row],[Money in/ (Money out)]]-Bank1[[#This Row],[GST/HST]] -> 0 | L1500: =$L$3 -> 0

Sheet Bank 1
A1: Client Name: | B1: =Dashboard!B3 -> (Enter Company name) | C1: Bank Name: | E1: =Dashboard!A16 -> Bank 1 | G1: Total inflows | H1: =SUMIF(E7:E1048576,">0") -> 0 | L1: Internal reporting account
A2: Period End: | B2: =Dashboard!B5 -> 46234 | C2: Account Number: | E2: =Dashboard!B16 -> 2222222 | G2: Total outflows | H2: =SUMIF(E7:E1048576,"<0") -> 0 | L2: TO BE ENTERED BY CPA IN DASHBOARD
C3: Opening Balance: | E3: =Dashboard!E16 -> 0 | G3: Closing Balance: | H3: =E3+H1+H2 -> 0 | L3: =Dashboard!C16 -> 0
A4: (DD-MM-YYYY) | I4: =SUBTOTAL(9,Bank2[GST/HST]) -> 0
A5: Date | B5: Description | C5: Chart of Accounts | D5: Account Name | E5: Money in/ (Money out) | F5: Bank account number | G5: Balance | H5: Invoice Number | I5: GST/HST | J5: Net amount | K5: Memo | L5: Internal reporting account number
B6: Opening Balance | G6: =E3 -> 0 | I6: =IF(OR(C6="150 Directors advances", C6="120 accounts receivable", C6="720.2 Automobile - Insurance", C6="720.3 Automobile - License", C6="870.4 Rent - Insurance", C6="870.6 Rent - Property Tax", C6="870.7 Rent - Homeoffice", C6="870.9 Rent - Water"), 0, IF(Dashboard!$F$5="Quick", IF(OR(C6="190 Automobile",C6="200 computer hardware",C6="210 Computer software",C6="220 Quickbooks software",C6="230 Office equipment",C6="240 Office furniture"), E6-(E6/(1+Dashboard!$F$4)), 0 ), IF(C6="750 Business promotion", E6-(E6/(1+4.793/100)), E6-(E6/(1+Dashboard!$F$4)) ) ) ) -> 0 | J6: =Bank2[[#This Row],[Money in/ (Money out)]]-Bank2[[#This Row],[GST/HST]] -> 0 | L6: =$L$3 -> 0
B7: Please ignore this | C7: 999 Uncategorized expenses | D7: =_xlfn.XLOOKUP(C:C,Table1[for Import to Bank Register dropdown],Table1[for Pivot],0,0,1) -> 999 Uncategorized expenses | E7: 0 | F7: =$E$2 -> 2222222 | G7: =G6+E7 -> 0 | I7: =IF(OR(C7="150 Directors advances", C7="120 accounts receivable", C7="720.2 Automobile - Insurance", C7="720.3 Automobile - License", C7="870.4 Rent - Insurance", C7="870.6 Rent - Property Tax", C7="870.7 Rent - Homeoffice", C7="870.9 Rent - Water"), 0, IF(Dashboard!$F$5="Quick", IF(OR(C7="190 Automobile",C7="200 computer hardware",C7="210 Computer software",C7="220 Quickbooks software",C7="230 Office equipment",C7="240 Office furniture"), E7-(E7/(1+Dashboard!$F$4)), 0 ), IF(C7="750 Business promotion", E7-(E7/(1+4.793/100)), E7-(E7/(1+Dashboard!$F$4)) ) ) ) -> 0 | J7: =Bank2[[#This Row],[Money in/ (Money out)]]-Bank2[[#This Row],[GST/HST]] -> 0 | L7: =$L$3 -> 0
D8: =_xlfn.XLOOKUP(C:C,Table1[for Import to Bank Register dropdown],Table1[for Pivot],0,0,1) -> 0 | F8: =$E$2 -> 2222222 | G8: =G7+E8 -> 0 | I8: =IF(OR(C8="150 Directors advances", C8="120 accounts receivable", C8="720.2 Automobile - Insurance", C8="720.3 Automobile - License", C8="870.4 Rent - Insurance", C8="870.6 Rent - Property Tax", C8="870.7 Rent - Homeoffice", C8="870.9 Rent - Water"), 0, IF(Dashboard!$F$5="Quick", IF(OR(C8="190 Automobile",C8="200 computer hardware",C8="210 Computer software",C8="220 Quickbooks software",C8="230 Office equipment",C8="240 Office furniture"), E8-(E8/(1+Dashboard!$F$4)), 0 ), IF(C8="750 Business promotion", E8-(E8/(1+4.793/100)), E8-(E8/(1+Dashboard!$F$4)) ) ) ) -> 0 | J8: =Bank2[[#This Row],[Money in/ (Money out)]]-Bank2[[#This Row],[GST/HST]] -> 0 | L8: =$L$3 -> 0
D9: =_xlfn.XLOOKUP(C:C,Table1[for Import to Bank Register dropdown],Table1[for Pivot],0,0,1) -> 0 | F9: =$E$2 -> 2222222 | G9: =G8+E9 -> 0 | I9: =IF(OR(C9="150 Directors advances", C9="120 accounts receivable", C9="720.2 Automobile - Insurance", C9="720.3 Automobile - License", C9="870.4 Rent - Insurance", C9="870.6 Rent - Property Tax", C9="870.7 Rent - Homeoffice", C9="870.9 Rent - Water"), 0, IF(Dashboard!$F$5="Quick", IF(OR(C9="190 Automobile",C9="200 computer hardware",C9="210 Computer software",C9="220 Quickbooks software",C9="230 Office equipment",C9="240 Office furniture"), E9-(E9/(1+Dashboard!$F$4)), 0 ), IF(C9="750 Business promotion", E9-(E9/(1+4.793/100)), E9-(E9/(1+Dashboard!$F$4)) ) ) ) -> 0 | J9: =Bank2[[#This Row],[Money in/ (Money out)]]-Bank2[[#This Row],[GST/HST]] -> 0 | L9: =$L$3 -> 0
D10: =_xlfn.XLOOKUP(C:C,Table1[for Import to Bank Register dropdown],Table1[for Pivot],0,0,1) -> 0 | F10: =$E$2 -> 2222222 | G10: =G9+E10 -> 0 | I10: =IF(OR(C10="150 Directors advances", C10="120 accounts receivable", C10="720.2 Automobile - Insurance", C10="720.3 Automobile - License", C10="870.4 Rent - Insurance", C10="870.6 Rent - Property Tax", C10="870.7 Rent - Homeoffice", C10="870.9 Rent - Water"), 0, IF(Dashboard!$F$5="Quick", IF(OR(C10="190 Automobile",C10="200 computer hardware",C10="210 Computer software",C10="220 Quickbooks software",C10="230 Office equipment",C10="240 Office furniture"), E10-(E10/(1+Dashboard!$F$4)), 0 ), IF(C10="750 Business promotion", E10-(E10/(1+4.793/100)), E10-(E10/(1+Dashboard!$F$4)) ) ) ) -> 0 | J10: =Bank2[[#This Row],[Money in/ (Money out)]]-Bank2[[#This Row],[GST/HST]] -> 0 | L10: =$L$3 -> 0
D11: =_xlfn.XLOOKUP(C:C,Table1[for Import to Bank Register dropdown],Table1[for Pivot],0,0,1) -> 0 | F11: =$E$2 -> 2222222 | G11: =G10+E11 -> 0 | I11: =IF(OR(C11="150 Directors advances", C11="120 accounts receivable", C11="720.2 Automobile - Insurance", C11="720.3 Automobile - License", C11="870.4 Rent - Insurance", C11="870.6 Rent - Property Tax", C11="870.7 Rent - Homeoffice", C11="870.9 Rent - Water"), 0, IF(Dashboard!$F$5="Quick", IF(OR(C11="190 Automobile",C11="200 computer hardware",C11="210 Computer software",C11="220 Quickbooks software",C11="230 Office equipment",C11="240 Office furniture"), E11-(E11/(1+Dashboard!$F$4)), 0 ), IF(C11="750 Business promotion", E11-(E11/(1+4.793/100)), E11-(E11/(1+Dashboard!$F$4)) ) ) ) -> 0 | J11: =Bank2[[#This Row],[Money in/ (Money out)]]-Bank2[[#This Row],[GST/HST]] -> 0 | L11: =$L$3 -> 0
D12: =_xlfn.XLOOKUP(C:C,Table1[for Import to Bank Register dropdown],Table1[for Pivot],0,0,1) -> 0 | F12: =$E$2 -> 2222222 | G12: =G11+E12 -> 0 | I12: =IF(OR(C12="150 Directors advances", C12="120 accounts receivable", C12="720.2 Automobile - Insurance", C12="720.3 Automobile - License", C12="870.4 Rent - Insurance", C12="870.6 Rent - Property Tax", C12="870.7 Rent - Homeoffice", C12="870.9 Rent - Water"), 0, IF(Dashboard!$F$5="Quick", IF(OR(C12="190 Automobile",C12="200 computer hardware",C12="210 Computer software",C12="220 Quickbooks software",C12="230 Office equipment",C12="240 Office furniture"), E12-(E12/(1+Dashboard!$F$4)), 0 ), IF(C12="750 Business promotion", E12-(E12/(1+4.793/100)), E12-(E12/(1+Dashboard!$F$4)) ) ) ) -> 0 | J12: =Bank2[[#This Row],[Money in/ (Money out)]]-Bank2[[#This Row],[GST/HST]] -> 0 | L12: =$L$3 -> 0
D13: =_xlfn.XLOOKUP(C:C,Table1[for Import to Bank Register dropdown],Table1[for Pivot],0,0,1) -> 0 | F13: =$E$2 -> 2222222 | G13: =G12+E13 -> 0 | I13: =IF(OR(C13="150 Directors advances", C13="120 accounts receivable", C13="720.2 Automobile - Insurance", C13="720.3 Automobile - License", C13="870.4 Rent - Insurance", C13="870.6 Rent - Property Tax", C13="870.7 Rent - Homeoffice", C13="870.9 Rent - Water"), 0, IF(Dashboard!$F$5="Quick", IF(OR(C13="190 Automobile",C13="200 computer hardware",C13="210 Computer software",C13="220 Quickbooks software",C13="230 Office equipment",C13="240 Office furniture"), E13-(E13/(1+Dashboard!$F$4)), 0 ), IF(C13="750 Business promotion", E13-(E13/(1+4.793/100)), E13-(E13/(1+Dashboard!$F$4)) ) ) ) -> 0 | J13: =Bank2[[#This Row],[Money in/ (Money out)]]-Bank2[[#This Row],[GST/HST]] -> 0 | L13: =$L$3 -> 0
D14: =_xlfn.XLOOKUP(C:C,Table1[for Import to Bank Register dropdown],Table1[for Pivot],0,0,1) -> 0 | F14: =$E$2 -> 2222222 | G14: =G13+E14 -> 0 | I14: =IF(OR(C14="150 Directors advances", C14="120 accounts receivable", C14="720.2 Automobile - Insurance", C14="720.3 Automobile - License", C14="870.4 Rent - Insurance", C14="870.6 Rent - Property Tax", C14="870.7 Rent - Homeoffice", C14="870.9 Rent - Water"), 0, IF(Dashboard!$F$5="Quick", IF(OR(C14="190 Automobile",C14="200 computer hardware",C14="210 Computer software",C14="220 Quickbooks software",C14="230 Office equipment",C14="240 Office furniture"), E14-(E14/(1+Dashboard!$F$4)), 0 ), IF(C14="750 Business promotion", E14-(E14/(1+4.793/100)), E14-(E14/(1+Dashboard!$F$4)) ) ) ) -> 0 | J14: =Bank2[[#This Row],[Money in/ (Money out)]]-Bank2[[#This Row],[GST/HST]] -> 0 | L14: =$L$3 -> 0
D15: =_xlfn.XLOOKUP(C:C,Table1[for Import to Bank Register dropdown],Table1[for Pivot],0,0,1) -> 0 | F15: =$E$2 -> 2222222 | G15: =G14+E15 -> 0 | I15: =IF(OR(C15="150 Directors advances", C15="120 accounts receivable", C15="720.2 Automobile - Insurance", C15="720.3 Automobile - License", C15="870.4 Rent - Insurance", C15="870.6 Rent - Property Tax", C15="870.7 Rent - Homeoffice", C15="870.9 Rent - Water"), 0, IF(Dashboard!$F$5="Quick", IF(OR(C15="190 Automobile",C15="200 computer hardware",C15="210 Computer software",C15="220 Quickbooks software",C15="230 Office equipment",C15="240 Office furniture"), E15-(E15/(1+Dashboard!$F$4)), 0 ), IF(C15="750 Business promotion", E15-(E15/(1+4.793/100)), E15-(E15/(1+Dashboard!$F$4)) ) ) ) -> 0 | J15: =Bank2[[#This Row],[Money in/ (Money out)]]-Bank2[[#This Row],[GST/HST]] -> 0 | L15: =$L$3 -> 0
D16: =_xlfn.XLOOKUP(C:C,Table1[for Import to Bank Register dropdown],Table1[for Pivot],0,0,1) -> 0 | F16: =$E$2 -> 2222222 | G16: =G15+E16 -> 0 | I16: =IF(OR(C16="150 Directors advances", C16="120 accounts receivable", C16="720.2 Automobile - Insurance", C16="720.3 Automobile - License", C16="870.4 Rent - Insurance", C16="870.6 Rent - Property Tax", C16="870.7 Rent - Homeoffice", C16="870.9 Rent - Water"), 0, IF(Dashboard!$F$5="Quick", IF(OR(C16="190 Automobile",C16="200 computer hardware",C16="210 Computer software",C16="220 Quickbooks software",C16="230 Office equipment",C16="240 Office furniture"), E16-(E16/(1+Dashboard!$F$4)), 0 ), IF(C16="750 Business promotion", E16-(E16/(1+4.793/100)), E16-(E16/(1+Dashboard!$F$4)) ) ) ) -> 0 | J16: =Bank2[[#This Row],[Money in/ (Money out)]]-Bank2[[#This Row],[GST/HST]] -> 0 | L16: =$L$3 -> 0
D17: =_xlfn.XLOOKUP(C:C,Table1[for Import to Bank Register dropdown],Table1[for Pivot],0,0,1) -> 0 | F17: =$E$2 -> 2222222 | G17: =G16+E17 -> 0 | I17: =IF(OR(C17="150 Directors advances", C17="120 accounts receivable", C17="720.2 Automobile - Insurance", C17="720.3 Automobile - License", C17="870.4 Rent - Insurance", C17="870.6 Rent - Property Tax", C17="870.7 Rent - Homeoffice", C17="870.9 Rent - Water"), 0, IF(Dashboard!$F$5="Quick", IF(OR(C17="190 Automobile",C17="200 computer hardware",C17="210 Computer software",C17="220 Quickbooks software",C17="230 Office equipment",C17="240 Office furniture"), E17-(E17/(1+Dashboard!$F$4)), 0 ), IF(C17="750 Business promotion", E17-(E17/(1+4.793/100)), E17-(E17/(1+Dashboard!$F$4)) ) ) ) -> 0 | J17: =Bank2[[#This Row],[Money in/ (Money out)]]-Bank2[[#This Row],[GST/HST]] -> 0 | L17: =$L$3 -> 0
D18: =_xlfn.XLOOKUP(C:C,Table1[for Import to Bank Register dropdown],Table1[for Pivot],0,0,1) -> 0 | F18: =$E$2 -> 2222222 | G18: =G17+E18 -> 0 | I18: =IF(OR(C18="150 Directors advances", C18="120 accounts receivable", C18="720.2 Automobile - Insurance", C18="720.3 Automobile - License", C18="870.4 Rent - Insurance", C18="870.6 Rent - Property Tax", C18="870.7 Rent - Homeoffice", C18="870.9 Rent - Water"), 0, IF(Dashboard!$F$5="Quick", IF(OR(C18="190 Automobile",C18="200 computer hardware",C18="210 Computer software",C18="220 Quickbooks software",C18="230 Office equipment",C18="240 Office furniture"), E18-(E18/(1+Dashboard!$F$4)), 0 ), IF(C18="750 Business promotion", E18-(E18/(1+4.793/100)), E18-(E18/(1+Dashboard!$F$4)) ) ) ) -> 0 | J18: =Bank2[[#This Row],[Money in/ (Money out)]]-Bank2[[#This Row],[GST/HST]] -> 0 | L18: =$L$3 -> 0
D19: =_xlfn.XLOOKUP(C:C,Table1[for Import to Bank Register dropdown],Table1[for Pivot],0,0,1) -> 0 | F19: =$E$2 -> 2222222 | G19: =G18+E19 -> 0 | I19: =IF(OR(C19="150 Directors advances", C19="120 accounts receivable", C19="720.2 Automobile - Insurance", C19="720.3 Automobile - License", C19="870.4 Rent - Insurance", C19="870.6 Rent - Property Tax", C19="870.7 Rent - Homeoffice", C19="870.9 Rent - Water"), 0, IF(Dashboard!$F$5="Quick", IF(OR(C19="190 Automobile",C19="200 computer hardware",C19="210 Computer software",C19="220 Quickbooks software",C19="230 Office equipment",C19="240 Office furniture"), E19-(E19/(1+Dashboard!$F$4)), 0 ), IF(C19="750 Business promotion", E19-(E19/(1+4.793/100)), E19-(E19/(1+Dashboard!$F$4)) ) ) ) -> 0 | J19: =Bank2[[#This Row],[Money in/ (Money out)]]-Bank2[[#This Row],[GST/HST]] -> 0 | L19: =$L$3 -> 0
... D1500: =_xlfn.XLOOKUP(C:C,Table1[for Import to Bank Register dropdown],Table1[for Pivot],0,0,1) -> 0 | F1500: =$E$2 -> 2222222 | G1500: =G1499+E1500 -> 0 | I1500: =IF(OR(C1500="150 Directors advances", C1500="120 accounts receivable", C1500="720.2 Automobile - Insurance", C1500="720.3 Automobile - License", C1500="870.4 Rent - Insurance", C1500="870.6 Rent - Property Tax", C1500="870.7 Rent - Homeoffice", C1500="870.9 Rent - Water"), 0, IF(Dashboard!$F$5="Quick", IF(OR(C1500="190 Automobile",C1500="200 computer hardware",C1500="210 Computer software",C1500="220 Quickbooks software",C1500="230 Office equipment",C1500="240 Office furniture"), E1500-(E1500/(1+Dashboard!$F$4)), 0 ), IF(C1500="750 Business promotion", E1500-(E1500/(1+4.793/100)), E1500-(E1500/(1+Dashboard!$F$4)) ) ) ) -> 0 | J1500: =Bank2[[#This Row],[Money in/ (Money out)]]-Bank2[[#This Row],[GST/HST]] -> 0 | L1500: =$L$3 -> 0

Sheet Bank 2
A1: Client Name: | B1: =Dashboard!B3 -> (Enter Company name) | C1: Bank Name: | E1: =Dashboard!A17 -> Bank 2 | G1: Total inflows | H1: =SUMIF(E7:E1048576,">0") -> 0 | L1: Internal reporting account
A2: Period End: | B2: =Dashboard!B5 -> 46234 | C2: Account Number: | E2: =Dashboard!B17 -> 3333333 | G2: Total outflows | H2: =SUMIF(E7:E1048576,"<0") -> 0 | L2: TO BE ENTERED BY CPA IN DASHBOARD
C3: Opening Balance: | E3: =Dashboard!E17 -> 0 | G3: Closing Balance: | H3: =E3+H1+H2 -> 0 | L3: =Dashboard!C17 -> 0
A4: (DD-MM-YYYY) | I4: =SUBTOTAL(9,Bank3[GST/HST]) -> 0
A5: Date | B5: Description | C5: Chart of Accounts | D5: Account Name | E5: Money in/ (Money out) | F5: Bank account number | G5: Balance | H5: Invoice Number | I5: GST/HST | J5: Net amount | K5: Memo | L5: Internal reporting account number
B6: Opening Balance | D6: =_xlfn.XLOOKUP(C:C,Table1[for Import to Bank Register dropdown],Table1[for Pivot],0,0,1) -> 0 | F6: =$E$2 -> 3333333 | G6: =E3 -> 0 | I6: =IF(OR(C6="150 Directors advances", C6="120 accounts receivable", C6="720.2 Automobile - Insurance", C6="720.3 Automobile - License", C6="870.4 Rent - Insurance", C6="870.6 Rent - Property Tax", C6="870.7 Rent - Homeoffice", C6="870.9 Rent - Water"), 0, IF(Dashboard!$F$5="Quick", IF(OR(C6="190 Automobile",C6="200 computer hardware",C6="210 Computer software",C6="220 Quickbooks software",C6="230 Office equipment",C6="240 Office furniture"), E6-(E6/(1+Dashboard!$F$4)), 0 ), IF(C6="750 Business promotion", E6-(E6/(1+4.793/100)), E6-(E6/(1+Dashboard!$F$4)) ) ) ) -> 0 | J6: =Bank3[[#This Row],[Money in/ (Money out)]]-Bank3[[#This Row],[GST/HST]] -> 0 | L6: =$L$3 -> 0
B7: Please ignore this | C7: 999 Uncategorized expenses | D7: =_xlfn.XLOOKUP(C:C,Table1[for Import to Bank Register dropdown],Table1[for Pivot],0,0,1) -> 999 Uncategorized expenses | E7: 0 | F7: =$E$2 -> 3333333 | G7: =G6+Bank3[[#This Row],[Money in/ (Money out)]] -> 0 | I7: =IF(OR(C7="150 Directors advances", C7="120 accounts receivable", C7="720.2 Automobile - Insurance", C7="720.3 Automobile - License", C7="870.4 Rent - Insurance", C7="870.6 Rent - Property Tax", C7="870.7 Rent - Homeoffice", C7="870.9 Rent - Water"), 0, IF(Dashboard!$F$5="Quick", IF(OR(C7="190 Automobile",C7="200 computer hardware",C7="210 Computer software",C7="220 Quickbooks software",C7="230 Office equipment",C7="240 Office furniture"), E7-(E7/(1+Dashboard!$F$4)), 0 ), IF(C7="750 Business promotion", E7-(E7/(1+4.793/100)), E7-(E7/(1+Dashboard!$F$4)) ) ) ) -> 0 | J7: =Bank3[[#This Row],[Money in/ (Money out)]]-Bank3[[#This Row],[GST/HST]] -> 0 | L7: =$L$3 -> 0
D8: =_xlfn.XLOOKUP(C:C,Table1[for Import to Bank Register dropdown],Table1[for Pivot],0,0,1) -> 0 | F8: =$E$2 -> 3333333 | G8: =G7+Bank3[[#This Row],[Money in/ (Money out)]] -> 0 | I8: =IF(OR(C8="150 Directors advances", C8="120 accounts receivable", C8="720.2 Automobile - Insurance", C8="720.3 Automobile - License", C8="870.4 Rent - Insurance", C8="870.6 Rent - Property Tax", C8="870.7 Rent - Homeoffice", C8="870.9 Rent - Water"), 0, IF(Dashboard!$F$5="Quick", IF(OR(C8="190 Automobile",C8="200 computer hardware",C8="210 Computer software",C8="220 Quickbooks software",C8="230 Office equipment",C8="240 Office furniture"), E8-(E8/(1+Dashboard!$F$4)), 0 ), IF(C8="750 Business promotion", E8-(E8/(1+4.793/100)), E8-(E8/(1+Dashboard!$F$4)) ) ) ) -> 0 | J8: =Bank3[[#This Row],[Money in/ (Money out)]]-Bank3[[#This Row],[GST/HST]] -> 0 | L8: =$L$3 -> 0
D9: =_xlfn.XLOOKUP(C:C,Table1[for Import to Bank Register dropdown],Table1[for Pivot],0,0,1) -> 0 | F9: =$E$2 -> 3333333 | G9: =G8+Bank3[[#This Row],[Money in/ (Money out)]] -> 0 | I9: =IF(OR(C9="150 Directors advances", C9="120 accounts receivable", C9="720.2 Automobile - Insurance", C9="720.3 Automobile - License", C9="870.4 Rent - Insurance", C9="870.6 Rent - Property Tax", C9="870.7 Rent - Homeoffice", C9="870.9 Rent - Water"), 0, IF(Dashboard!$F$5="Quick", IF(OR(C9="190 Automobile",C9="200 computer hardware",C9="210 Computer software",C9="220 Quickbooks software",C9="230 Office equipment",C9="240 Office furniture"), E9-(E9/(1+Dashboard!$F$4)), 0 ), IF(C9="750 Business promotion", E9-(E9/(1+4.793/100)), E9-(E9/(1+Dashboard!$F$4)) ) ) ) -> 0 | J9: =Bank3[[#This Row],[Money in/ (Money out)]]-Bank3[[#This Row],[GST/HST]] -> 0 | L9: =$L$3 -> 0
D10: =_xlfn.XLOOKUP(C:C,Table1[for Import to Bank Register dropdown],Table1[for Pivot],0,0,1) -> 0 | F10: =$E$2 -> 3333333 | G10: =G9+Bank3[[#This Row],[Money in/ (Money out)]] -> 0 | I10: =IF(OR(C10="150 Directors advances", C10="120 accounts receivable", C10="720.2 Automobile - Insurance", C10="720.3 Automobile - License", C10="870.4 Rent - Insurance", C10="870.6 Rent - Property Tax", C10="870.7 Rent - Homeoffice", C10="870.9 Rent - Water"), 0, IF(Dashboard!$F$5="Quick", IF(OR(C10="190 Automobile",C10="200 computer hardware",C10="210 Computer software",C10="220 Quickbooks software",C10="230 Office equipment",C10="240 Office furniture"), E10-(E10/(1+Dashboard!$F$4)), 0 ), IF(C10="750 Business promotion", E10-(E10/(1+4.793/100)), E10-(E10/(1+Dashboard!$F$4)) ) ) ) -> 0 | J10: =Bank3[[#This Row],[Money in/ (Money out)]]-Bank3[[#This Row],[GST/HST]] -> 0 | L10: =$L$3 -> 0
D11: =_xlfn.XLOOKUP(C:C,Table1[for Import to Bank Register dropdown],Table1[for Pivot],0,0,1) -> 0 | F11: =$E$2 -> 3333333 | G11: =G10+Bank3[[#This Row],[Money in/ (Money out)]] -> 0 | I11: =IF(OR(C11="150 Directors advances", C11="120 accounts receivable", C11="720.2 Automobile - Insurance", C11="720.3 Automobile - License", C11="870.4 Rent - Insurance", C11="870.6 Rent - Property Tax", C11="870.7 Rent - Homeoffice", C11="870.9 Rent - Water"), 0, IF(Dashboard!$F$5="Quick", IF(OR(C11="190 Automobile",C11="200 computer hardware",C11="210 Computer software",C11="220 Quickbooks software",C11="230 Office equipment",C11="240 Office furniture"), E11-(E11/(1+Dashboard!$F$4)), 0 ), IF(C11="750 Business promotion", E11-(E11/(1+4.793/100)), E11-(E11/(1+Dashboard!$F$4)) ) ) ) -> 0 | J11: =Bank3[[#This Row],[Money in/ (Money out)]]-Bank3[[#This Row],[GST/HST]] -> 0 | L11: =$L$3 -> 0
D12: =_xlfn.XLOOKUP(C:C,Table1[for Import to Bank Register dropdown],Table1[for Pivot],0,0,1) -> 0 | F12: =$E$2 -> 3333333 | G12: =G11+Bank3[[#This Row],[Money in/ (Money out)]] -> 0 | I12: =IF(OR(C12="150 Directors advances", C12="120 accounts receivable", C12="720.2 Automobile - Insurance", C12="720.3 Automobile - License", C12="870.4 Rent - Insurance", C12="870.6 Rent - Property Tax", C12="870.7 Rent - Homeoffice", C12="870.9 Rent - Water"), 0, IF(Dashboard!$F$5="Quick", IF(OR(C12="190 Automobile",C12="200 computer hardware",C12="210 Computer software",C12="220 Quickbooks software",C12="230 Office equipment",C12="240 Office furniture"), E12-(E12/(1+Dashboard!$F$4)), 0 ), IF(C12="750 Business promotion", E12-(E12/(1+4.793/100)), E12-(E12/(1+Dashboard!$F$4)) ) ) ) -> 0 | J12: =Bank3[[#This Row],[Money in/ (Money out)]]-Bank3[[#This Row],[GST/HST]] -> 0 | L12: =$L$3 -> 0
